Workbook

Sheet Input Capital & Operating Costs
B2: Input Requirements
B3: Capital Expenditures
B4: Capital Expenditures from 2027 to 2031 should be the same as in the five year capital budget.
B5: The year the costs are put into the spreadsheet is the year the project placed into rate base.
B6: The Capital expenditures beyond 2031 should be based on 2027 costs and will be escalated to the in-service year by this spreadsheet.
B8: Operating Expenditures
B9: All Operating expenditures should be input based on 2027 costs. The Spreadsheet will escalate the operating costs to future years.
B11: Project Life Cycle Analysis Assumptions
B12: Year production due to life extension project starts. | E12: 2027
B14: Notes
B15: 1) Present Value Calculation assumes an in-service date at end of year with production from life extension project starting the year subsequent to the in-service year.
B16: 2) Revenue Requirement and Avoided Energy Costs are all Year End Cash Flows.
B17: 2) Total present value of costs will be based on a assumed study period (life cycle) starting in the year subsequent to the in-service year.
B18: 3) Lost production during construction will be modeled as a cost of the project.
B19: 4) Present Value Calculation is discounted to the beginning of the year when production from the project is deemed to have started.
B23: Capital Expenditures by Year
B25: Year | C25: Generation | D25: Generation | E25: Transmission | F25: Substation | G25: Distribution | H25: Buildings | I25: Operating | J25: Description of Capital Work
C26: Hydro | D26: Hydro | I26: Costs
C27: 65.7 yrs | D27: 65.7 yrs | E27: 51.9 yrs | F27: 48.5 yrs | G27: 52.9 yrs | H27: 78 yrs
C28: 8% CCA | D28: 100% CCA | E28: 8% CCA | F28: 8% CCA | G28: 8% CCA | H28: 4% CCA
B30: 2027 | C30: 612000 | F30: 73000 | I30: ='Generation Plant Input'!O40 -> 300666.4 | J30: Lookout Brook Bridges #1 and Transformer Year 1
B31: =B30+1 -> 2028 | C31: 622000 | F31: 86000 | I31: =I30 -> 300666.4 | J31: Lookout Brook Bridges #2 and Transformer Year 2
B32: =B31+1 -> 2029 | C32: 1588000 | F32: 2175000 | I32: =I31 -> 300666.4 | J32: Lookout Brook Bridge #3 and Transformer Year 3
B33: =B32+1 -> 2030 | I33: =I32 -> 300666.4
B34: =B33+1 -> 2031 | C34: 3286000 | I34: =I33 -> 300666.4 | J34: Road and Joe Dennis Pond Outlet Year 1
B35: =B34+1 -> 2032 | C35: 8714000 | I35: =I34 -> 300666.4 | J35: Road and Joe Dennis Pond Outlet Year 2
B36: =B35+1 -> 2033 | C36: 3500000 | I36: =I35 -> 300666.4 | J36: Penstock Coating
B37: =B36+1 -> 2034 | I37: =I36 -> 300666.4
B38: =B37+1 -> 2035 | C38: 1500000 | I38: =I37 -> 300666.4 | J38: Mechanical Overhaul
B39: =B38+1 -> 2036 | C39: 1000000 | I39: =I38 -> 300666.4 | J39: Cross Pond Outlet Replacement
B40: =B39+1 -> 2037 | I40: =I39 -> 300666.4
B41: =B40+1 -> 2038 | I41: =I40 -> 300666.4
B42: =B41+1 -> 2039 | I42: =I41 -> 300666.4
B43: =B42+1 -> 2040 | I43: =I42 -> 300666.4
B44: =B43+1 -> 2041 | I44: =I43 -> 300666.4
B45: =B44+1 -> 2042 | I45: =I44 -> 300666.4
B46: =B45+1 -> 2043 | I46: =I45 -> 300666.4
B47: =B46+1 -> 2044 | I47: =I46 -> 300666.4
B48: =B47+1 -> 2045 | I48: =I47 -> 300666.4
B49: =B48+1 -> 2046 | I49: =I48 -> 300666.4
...

Sheet Generation Plant Input
B2: Lookout Brook
B3: All Operating costs should reflect cost escalations to 2027
B6: Plant Production Information
B8: Summary
B9: Existing Plant Output | D9: 31.51 | E9: GWhrs | F9: Estimated Normal Production
B10: Generation Increase | D10: 0 | E10: GWhrs
B11: New Plant Output | D11: =D10+D9 -> 31.51 | E11: GWhrs
B12: NP Output | D12: 438.4 | E12: GWhrs
B13: Existing Plant Capacity | D13: 5.6 | E13: MW | F13: (Available for Winter Peak)
B14: Generation Increase | D14: 0 | E14: MW
B15: New Plant Output | D15: =D13+D14 -> 5.6 | E15: MW | F15: (Available for Winter Peak)
B17: Annual Operating Costs | D17: See Operating Cost Table
B18: Operating Savings
B19: Revised Annual Costs
B21: NOTES
B22: 1) Normalized Energy Production based on the results of the 2020 Water Management Study
B23: 2) Annual Cost Calculated Specific Plant Charges + % Of Hydro Operations based on annual Output
B24: 3) Ensure Gen Tax is included
B25: 4) Available for Winter Peak as reported to Hydro (based on capacity during capacity test)
B27: Operating Cost Information
B29: Operating Costs Information
C30: Plant Operating | E30: Hydro Ops | F30: 51201 | G30: Plant Portion of | I30: Total | K30: Escalation to 2027 - Labour | L30: Escalation to 2027 - Non Labour | M30: $2027 Labour | N30: $2027 Non Labour | O30: Total
C31: 51233 - Lookout Brook | E31: 51201 | G31: Hydro Ops
C32: Labour | D32: Non Labour | E32: Labour | F32: Non Labour | G32: Labour | H32: Non Labour | I32: Labour | J32: Non Labour | L32: Non Labour | M32: 2023 $ | O32: Total
B33: 2021 | C33: 81335 | D33: 31985 | E33: 658209.86 | F33: 266034.64 | G33: =$D$9/$D$12*E33 -> 47308.834 | H33: =$D$9/$D$12*F33 -> 19121.24 | I33: =C33+G33 -> 128643.83 | J33: =D33+H33 -> 51106.24 | K33: =F65 -> 1.2542378 | L33: =D65 -> 1.1964532 | M33: =I33*K33 -> 161349.96 | N33: =L33*J33 -> 61146.226 | O33: =SUM(M33:N33) -> 222496.19
B34: 2022 | C34: 67797 | D34: 42396 | E34: 700705.58 | F34: 225810.76 | G34: =$D$9/$D$12*E34 -> 50363.214 | H34: =$D$9/$D$12*F34 -> 16230.148 | I34: =C34+G34 -> 118160.21 | J34: =D34+H34 -> 58626.148 | K34: =F66 -> 1.2177066 | L34: =D66 -> 1.108804 | M34: =I34*K34 -> 143884.48 | N34: =L34*J34 -> 65004.908 | O34: =SUM(M34:N34) -> 208889.38
B35: 2023 | C35: 88619 | D35: 26599 | E35: 795219 | F35: 187174 | G35: =$D$9/$D$12*E35 -> 57156.366 | H35: =$D$9/$D$12*F35 -> 13453.131 | I35: =C35+G35 -> 145775.37 | J35: =D35+H35 -> 40052.131 | K35: =F67 -> 1.1839637 | L35: =D67 -> 1.0918872 | M35: =I35*K35 -> 172592.74 | N35: =L35*J35 -> 43732.41 | O35: =SUM(M35:N35) -> 216325.15
B36: 2024 | C36: 80190 | D36: 11599 | E36: 648233 | F36: 291164 | G36: =$D$9/$D$12*E36 -> 46591.747 | H36: =$D$9/$D$12*F36 -> 20927.413 | I36: =C36+G36 -> 126781.75 | J36: =D36+H36 -> 32526.413 | K36: =F68 -> 1.1406201 | L36: =D68 -> 1.0629094 | M36: =I36*K36 -> 144609.81 | N36: =L36*J36 -> 34572.63 | O36: =SUM(M36:N36) -> 179182.44
B37: 2025 | C37: 62366 | D37: 14145 | E37: 783515 | F37: 206805 | G37: =$D$9/$D$12*E37 -> 56315.141 | H37: =$D$9/$D$12*F37 -> 14864.109 | I37: =C37+G37 -> 118681.14 | J37: =D37+H37 -> 29009.109 | K37: =F69 -> 1.092025 | L37: =D69 -> 1.0366417 | M37: =I37*K37 -> 129602.77 | N37: =L37*J37 -> 30072.054 | O37: =SUM(M37:N37) -> 159674.83
B38: 5 year Average | C38: =AVERAGE(C33:C37) -> 76061.4 | D38: =AVERAGE(D33:D37) -> 25344.8 | E38: =AVERAGE(E33:E37) -> 717176.49 | F38: =AVERAGE(F33:F37) -> 235397.68 | G38: =AVERAGE(G33:G37) -> 51547.06 | H38: =AVERAGE(H33:H37) -> 16919.208 | I38: =G38+C38 -> 127608.46 | J38: =D38+H38 -> 42264.008 | M38: =AVERAGE(M33:M37) -> 150407.95 | N38: =AVERAGE(N33:N37) -> 46905.646 | O38: =AVERAGE(O33:O37) -> 197313.6
N39: Water Tax | O39: =E52 -> 103352.8
N40: Total Annual Operating Cost: | O40: =O38+O39 -> 300666.4
B42: Water Rental Tax
B43: 2025 Water Rental Rate | E43: 3.1489
B44: based on rate of 2.5 $/MWh established in 2016 and adjusted by CPI annually
B46: CPI Escalation 2026 | C46: 0.0208 | E46: =E43*(1+C46) -> 3.2143971
B47: CPI Escalation 2027 | C47: 0.0205 | E47: =E46*(1+C47) -> 3.2802923
B49: Rounded Figure for 2027 | E49: =ROUND(E47,2) -> 3.28 | F49: $/MWh
B50: Normal Production | E50: =D11*1000 -> 31510
B52: Total Water Rental Rate ($2027) | E52: =E50*E49 -> 103352.8
...

Sheet Marginal Supply Costs
A1: Notes: | B1: Basis of Energy, Generation Capacity and Transmission Capacity is NL Hydro's Marginal Cost update- December 2025
B2: Winter Season defined as December through March.
B3: On peak Hours 7:00 a.m. to 10:00 p.m., Monday through Friday
B4: Hourly Marginal Capacity estimated by Newfoundland Power.
B5: Annual Capacity costs does not include losses to NP delivery point
A7: Marginal Cost Projection 2026 - 2045
A8: Island Inter-Connected System
A9: at Hydro's Delivery Point to NP | K9: Plant Production
A10: Source: Hydro's Marginal Cost Update, December 2025 | K10: Source: Hourly Hydro Prod Input for NPV - for appropriate hydro Plant
B12: Energy Supply Costs | F12: Generation and Transmission Capacity Costs | K12: Plant Production Splits | O12: Weighted Export Energy Supply Cost | P12: Weighted Capacity Cost (Run of River)
B13: Winter | D13: Non-Winter | F13: Winter | H13: Non-Winter | K13: Winter | M13: Non-Winter
A14: Year | B14: On-Peak | C14: Off-Peak | D14: All hours | F14: On-Peak | G14: Off-Peak | H14: All hours | I14: Annual | K14: On-Peak | L14: Off-Peak | M14: All hours
B15: $/MWh | C15: $/MWh | D15: $/MWh | F15: $/MWh | G15: $/MWh | H15: $/MWh | I15: $/kW·yr | O15: $/MWh | P15: $/MWh
A16: 2027 | B16: 100.83 | C16: 84.05 | D16: 35.8 | F16: 135.85 | G16: 42.49 | H16: 2.07 | I16: 258.02 | K16: 0.16 | L16: 0.175 | M16: 0.66 | O16: =B16*K16+C16*L16+D16*M16 -> 54.46955 | P16: =F16*K16+G16*L16+H16*M16 -> 30.53795
A17: =A16+1 -> 2028 | B17: 85.88 | C17: 69.58 | D17: 28.17 | F17: 125.92 | G17: 39.35 | H17: 1.9 | I17: 239.29 | K17: 0.16 | L17: 0.18 | M17: 0.66 | O17: =B17*K17+C17*L17+D17*M17 -> 44.8574 | P17: =F17*K17+G17*L17+H17*M17 -> 28.4842
A18: =A17+1 -> 2029 | B18: 65.26 | C18: 55.99 | D18: 25.68 | F18: 157.6 | G18: 49.33 | H18: 2.43 | I18: 299.49 | K18: 0.16 | L18: 0.18 | M18: 0.66 | O18: =B18*K18+C18*L18+D18*M18 -> 37.4686 | P18: =F18*K18+G18*L18+H18*M18 -> 35.6992
A19: =A18+1 -> 2030 | B19: 63.93 | C19: 55.58 | D19: 25.34 | F19: 251.8 | G19: 79.02 | H19: 4 | I19: 478.32 | K19: 0.16 | L19: 0.18 | M19: 0.66 | O19: =B19*K19+C19*L19+D19*M19 -> 36.9576 | P19: =F19*K19+G19*L19+H19*M19 -> 57.1516
A20: =A19+1 -> 2031 | B20: 67.76 | C20: 56.83 | D20: 27.76 | F20: 467.19 | G20: 146.91 | H20: 7.62 | I20: 887.06 | K20: 0.16 | L20: 0.18 | M20: 0.66 | O20: =B20*K20+C20*L20+D20*M20 -> 39.3926 | P20: =F20*K20+G20*L20+H20*M20 -> 106.2234
A21: =A20+1 -> 2032 | B21: 71.74 | C21: 59.62 | D21: 28.94 | F21: 339.33 | G21: 106.6 | H21: 5.46 | I21: 644.61 | K21: 0.16 | L21: 0.18 | M21: 0.66 | O21: =B21*K21+C21*L21+D21*M21 -> 41.3104 | P21: =F21*K21+G21*L21+H21*M21 -> 77.0844
A22: =A21+1 -> 2033 | B22: 71.58 | C22: 59.73 | D22: 29.89 | F22: 372.95 | G22: 117.19 | H22: 6.02 | I22: 708.53 | K22: 0.16 | L22: 0.18 | M22: 0.66 | O22: =B22*K22+C22*L22+D22*M22 -> 41.9316 | P22: =F22*K22+G22*L22+H22*M22 -> 84.7394
A23: =A22+1 -> 2034 | B23: 71.94 | C23: 62.43 | D23: 29.2 | F23: 282.63 | G23: 88.71 | H23: 4.5 | I23: 537.31 | K23: 0.16 | L23: 0.18 | M23: 0.66 | O23: =B23*K23+C23*L23+D23*M23 -> 42.0198 | P23: =F23*K23+G23*L23+H23*M23 -> 64.1586
A24: =A23+1 -> 2035 | B24: 72.63 | C24: 65.76 | D24: 29.74 | F24: 203.08 | G24: 63.62 | H24: 3.16 | I24: 386.53 | K24: 0.16 | L24: 0.18 | M24: 0.66 | O24: =B24*K24+C24*L24+D24*M24 -> 43.086 | P24: =F24*K24+G24*L24+H24*M24 -> 46.03
A25: =A24+1 -> 2036 | B25: 70.37 | C25: 62.99 | D25: 30.67 | F25: 298.04 | G25: 93.54 | H25: 4.75 | I25: 566.82 | K25: 0.16 | L25: 0.18 | M25: 0.66 | O25: =B25*K25+C25*L25+D25*M25 -> 42.8396 | P25: =F25*K25+G25*L25+H25*M25 -> 67.6586
A26: =A25+1 -> 2037 | B26: 72.77 | C26: 62.95 | D26: 30.23 | F26: 306.79 | G26: 96.29 | H26: 4.89 | I26: 583.57 | K26: 0.16 | L26: 0.18 | M26: 0.66 | O26: =B26*K26+C26*L26+D26*M26 -> 42.926 | P26: =F26*K26+G26*L26+H26*M26 -> 69.646
A27: =A26+1 -> 2038 | B27: 77.31 | C27: 67.08 | D27: 30.89 | F27: 315.8 | G27: 99.12 | H27: 5.04 | I27: 600.82 | K27: 0.16 | L27: 0.18 | M27: 0.66 | O27: =B27*K27+C27*L27+D27*M27 -> 44.8314 | P27: =F27*K27+G27*L27+H27*M27 -> 71.696
A28: =A27+1 -> 2039 | B28: 76.92 | C28: 67.4 | D28: 30.82 | F28: 325.07 | G28: 102.04 | H28: 5.19 | I28: 618.59 | K28: 0.16 | L28: 0.18 | M28: 0.66 | O28: =B28*K28+C28*L28+D28*M28 -> 44.7804 | P28: =F28*K28+G28*L28+H28*M28 -> 73.8038
... A34: =A33+1 -> 2045 | B34: 98.76 | C34: 90.09 | D34: 39.75 | F34: 386.87 | G34: 121.46 | H34: 6.19 | I34: 736.96 | K34: 0.16 | L34: 0.18 | M34: 0.66 | O34: =B34*K34+C34*L34+D34*M34 -> 58.2528 | P34: =F34*K34+G34*L34+H34*M34 -> 87.8474
A35: =A34+1 -> 2046 | B35: =B34*(1+'Escalation Sheet'!$C22) -> 100.41374 | C35: =C34*(1+'Escalation Sheet'!$C22) -> 91.598557 | D35: =D34*(1+'Escalation Sheet'!$C22) -> 40.415614 | F35: =F34*(1+'Escalation Sheet'!$C22) -> 393.34814 | G35: =G34*(1+'Escalation Sheet'!$C22) -> 123.49385 | H35: =H34*(1+'Escalation Sheet'!$C22) -> 6.2936516 | I35: =I34*(1+'Escalation Sheet'!$C22) -> 749.3004 | K35: 0.16 | L35: 0.18 | M35: 0.66 | O35: =B35*K35+C35*L35+D35*M35 -> 59.228243 | P35: =F35*K35+G35*L35+H35*M35 -> 89.318405
A36: =A35+1 -> 2047 | B36: =B35*(1+'Escalation Sheet'!$C23) -> 102.09516 | C36: =C35*(1+'Escalation Sheet'!$C23) -> 93.132375 | D36: =D35*(1+'Escalation Sheet'!$C23) -> 41.092373 | F36: =F35*(1+'Escalation Sheet'!$C23) -> 399.93475 | G36: =G35*(1+'Escalation Sheet'!$C23) -> 125.56175 | H36: =H35*(1+'Escalation Sheet'!$C23) -> 6.3990387 | I36: =I35*(1+'Escalation Sheet'!$C23) -> 761.84743 | K36: 0.16 | L36: 0.18 | M36: 0.66 | O36: =B36*K36+C36*L36+D36*M36 -> 60.22002 | P36: =F36*K36+G36*L36+H36*M36 -> 90.814041
A37: =A36+1 -> 2048 | B37: =B36*(1+'Escalation Sheet'!$C24) -> 103.80475 | C37: =C36*(1+'Escalation Sheet'!$C24) -> 94.691877 | D37: =D36*(1+'Escalation Sheet'!$C24) -> 41.780465 | F37: =F36*(1+'Escalation Sheet'!$C24) -> 406.63166 | G37: =G36*(1+'Escalation Sheet'!$C24) -> 127.66428 | H37: =H36*(1+'Escalation Sheet'!$C24) -> 6.5061906 | I37: =I36*(1+'Escalation Sheet'!$C24) -> 774.60457 | K37: 0.16 | L37: 0.18 | M37: 0.66 | O37: =B37*K37+C37*L37+D37*M37 -> 61.228404 | P37: =F37*K37+G37*L37+H37*M37 -> 92.334723
A38: =A37+1 -> 2049 | B38: =B37*(1+'Escalation Sheet'!$C25) -> 105.54296 | C38: =C37*(1+'Escalation Sheet'!$C25) -> 96.277492 | D38: =D37*(1+'Escalation Sheet'!$C25) -> 42.480079 | F38: =F37*(1+'Escalation Sheet'!$C25) -> 413.44071 | G38: =G37*(1+'Escalation Sheet'!$C25) -> 129.80202 | H38: =H37*(1+'Escalation Sheet'!$C25) -> 6.6151368 | I38: =I37*(1+'Escalation Sheet'!$C25) -> 787.57532 | K38: 0.16 | L38: 0.18 | M38: 0.66 | O38: =B38*K38+C38*L38+D38*M38 -> 62.253674 | P38: =F38*K38+G38*L38+H38*M38 -> 93.880867
A39: =A38+1 -> 2050 | B39: =B38*(1+'Escalation Sheet'!$C26) -> 107.31028 | C39: =C38*(1+'Escalation Sheet'!$C26) -> 97.889659 | D39: =D38*(1+'Escalation Sheet'!$C26) -> 43.191408 | F39: =F38*(1+'Escalation Sheet'!$C26) -> 420.36377 | G39: =G38*(1+'Escalation Sheet'!$C26) -> 131.97556 | H39: =H38*(1+'Escalation Sheet'!$C26) -> 6.7259073 | I39: =I38*(1+'Escalation Sheet'!$C26) -> 800.76327 | K39: 0.16 | L39: 0.18 | M39: 0.66 | O39: =B39*K39+C39*L39+D39*M39 -> 63.296112 | P39: =F39*K39+G39*L39+H39*M39 -> 95.452903
A40: =A39+1 -> 2051 | B40: =B39*(1+'Escalation Sheet'!$C27) -> 109.10719 | C40: =C39*(1+'Escalation Sheet'!$C27) -> 99.528821 | D40: =D39*(1+'Escalation Sheet'!$C27) -> 43.914648 | F40: =F39*(1+'Escalation Sheet'!$C27) -> 427.40276 | G40: =G39*(1+'Escalation Sheet'!$C27) -> 134.18549 | H40: =H39*(1+'Escalation Sheet'!$C27) -> 6.8385326 | I40: =I39*(1+'Escalation Sheet'!$C27) -> 814.17205 | K40: 0.16 | L40: 0.18 | M40: 0.66 | O40: =B40*K40+C40*L40+D40*M40 -> 64.356005 | P40: =F40*K40+G40*L40+H40*M40 -> 97.051261
A41: =A40+1 -> 2052 | B41: =B40*(1+'Escalation Sheet'!$C28) -> 110.93419 | C41: =C40*(1+'Escalation Sheet'!$C28) -> 101.19543 | D41: =D40*(1+'Escalation Sheet'!$C28) -> 44.649999 | F41: =F40*(1+'Escalation Sheet'!$C28) -> 434.55962 | G41: =G40*(1+'Escalation Sheet'!$C28) -> 136.43242 | H41: =H40*(1+'Escalation Sheet'!$C28) -> 6.9530438 | I41: =I40*(1+'Escalation Sheet'!$C28) -> 827.80536 | K41: 0.16 | L41: 0.18 | M41: 0.66 | O41: =B41*K41+C41*L41+D41*M41 -> 65.433646 | P41: =F41*K41+G41*L41+H41*M41 -> 98.676385
A42: =A41+1 -> 2053 | B42: =B41*(1+'Escalation Sheet'!$C29) -> 112.79178 | C42: =C41*(1+'Escalation Sheet'!$C29) -> 102.88995 | D42: =D41*(1+'Escalation Sheet'!$C29) -> 45.397663 | F42: =F41*(1+'Escalation Sheet'!$C29) -> 441.83632 | G42: =G41*(1+'Escalation Sheet'!$C29) -> 138.71698 | H42: =H41*(1+'Escalation Sheet'!$C29) -> 7.0694725 | I42: =I41*(1+'Escalation Sheet'!$C29) -> 841.66696 | K42: 0.16 | L42: 0.18 | M42: 0.66 | O42: =B42*K42+C42*L42+D42*M42 -> 66.529333 | P42: =F42*K42+G42*L42+H42*M42 -> 100.32872
A43: =A42+1 -> 2054 | B43: =B42*(1+'Escalation Sheet'!$C30) -> 114.68048 | C43: =C42*(1+'Escalation Sheet'!$C30) -> 104.61284 | D43: =D42*(1+'Escalation Sheet'!$C30) -> 46.157847 | F43: =F42*(1+'Escalation Sheet'!$C30) -> 449.23487 | G43: =G42*(1+'Escalation Sheet'!$C30) -> 141.0398 | H43: =H42*(1+'Escalation Sheet'!$C30) -> 7.1878509 | I43: =I42*(1+'Escalation Sheet'!$C30) -> 855.76067 | K43: 0.16 | L43: 0.18 | M43: 0.66 | O43: =B43*K43+C43*L43+D43*M43 -> 67.643366 | P43: =F43*K43+G43*L43+H43*M43 -> 102.00873
A44: =A43+1 -> 2055 | B44: =B43*(1+'Escalation Sheet'!$C31) -> 116.6008 | C44: =C43*(1+'Escalation Sheet'!$C31) -> 106.36458 | D44: =D43*(1+'Escalation Sheet'!$C31) -> 46.93076 | F44: =F43*(1+'Escalation Sheet'!$C31) -> 456.75731 | G44: =G43*(1+'Escalation Sheet'!$C31) -> 143.40151 | H44: =H43*(1+'Escalation Sheet'!$C31) -> 7.3082114 | I44: =I43*(1+'Escalation Sheet'!$C31) -> 870.09039 | K44: 0.16 | L44: 0.18 | M44: 0.66 | O44: =B44*K44+C44*L44+D44*M44 -> 68.776055 | P44: =F44*K44+G44*L44+H44*M44 -> 103.71686
A45: =A44+1 -> 2056 | B45: =B44*(1+'Escalation Sheet'!$C32) -> 118.55328 | C45: =C44*(1+'Escalation Sheet'!$C32) -> 108.14566 | D45: =D44*(1+'Escalation Sheet'!$C32) -> 47.716616 | F45: =F44*(1+'Escalation Sheet'!$C32) -> 464.40571 | G45: =G44*(1+'Escalation Sheet'!$C32) -> 145.80277 | H45: =H44*(1+'Escalation Sheet'!$C32) -> 7.4305874 | I45: =I44*(1+'Escalation Sheet'!$C32) -> 884.66005 | K45: 0.16 | L45: 0.18 | M45: 0.66 | O45: =B45*K45+C45*L45+D45*M45 -> 69.92771 | P45: =F45*K45+G45*L45+H45*M45 -> 105.4536
A46: =A45+1 -> 2057 | B46: =B45*(1+'Escalation Sheet'!$C33) -> 120.53846 | C46: =C45*(1+'Escalation Sheet'!$C33) -> 109.95656 | D46: =D45*(1+'Escalation Sheet'!$C33) -> 48.51563 | F46: =F45*(1+'Escalation Sheet'!$C33) -> 472.18219 | G46: =G45*(1+'Escalation Sheet'!$C33) -> 148.24424 | H46: =H45*(1+'Escalation Sheet'!$C33) -> 7.5550126 | I46: =I45*(1+'Escalation Sheet'!$C33) -> 899.47368 | K46: 0.16 | L46: 0.18 | M46: 0.66 | O46: =B46*K46+C46*L46+D46*M46 -> 71.098649 | P46: =F46*K46+G46*L46+H46*M46 -> 107.21942
... A96: =A95+1 -> 2107 | B96: =B95*(1+'Escalation Sheet'!$C83) -> 276.52086 | C96: =C95*(1+'Escalation Sheet'!$C83) -> 252.24548 | D96: =D95*(1+'Escalation Sheet'!$C83) -> 111.29713 | F96: =F95*(1+'Escalation Sheet'!$C83) -> 1083.208 | G96: =G95*(1+'Escalation Sheet'!$C83) -> 340.07922 | H96: =H95*(1+'Escalation Sheet'!$C83) -> 17.331552 | I96: =I95*(1+'Escalation Sheet'!$C83) -> 2063.4347 | K96: 0.16 | L96: 0.18 | M96: 0.66 | O96: =B96*K96+C96*L96+D96*M96 -> 163.10363 | P96: =F96*K96+G96*L96+H96*M96 -> 245.96637
...

Sheet Escalation Sheet
B1: GDP Deflator (All Canada)
A2: Year | B2: Index | C2: (% over previous year) | E2: Escalated Amount
A3: 2027 | B3: 1.3450572 | E3: 100
A4: =A3+1 -> 2028 | B4: 1.3711757 | C4: =B4/B3-1 -> 0.019418133 | E4: =E3*(1+C4) -> 101.94181
A5: =A4+1 -> 2029 | B5: 1.399154 | C5: =B5/B4-1 -> 0.020404569 | E5: =E4*(1+C5) -> 104.02189
A6: =A5+1 -> 2030 | B6: 1.4242133 | C6: =B6/B5-1 -> 0.017910287 | E6: =E5*(1+C6) -> 105.88495
A7: =A6+1 -> 2031 | B7: 1.4479065 | C7: =B7/B6-1 -> 0.016636 | E7: =E6*(1+C7) -> 107.64646
A8: =A7+1 -> 2032 | B8: 1.47092 | C8: =B8/B7-1 -> 0.015894354 | E8: =E7*(1+C8) -> 109.35743
A9: =A8+1 -> 2033 | B9: 1.4956978 | C9: =B9/B8-1 -> 0.01684507 | E9: =E8*(1+C9) -> 111.19956
A10: =A9+1 -> 2034 | B10: 1.5208525 | C10: =B10/B9-1 -> 0.01681807 | E10: =E9*(1+C10) -> 113.06972
A11: =A10+1 -> 2035 | B11: 1.5462662 | C11: =B11/B10-1 -> 0.0167102 | E11: =E10*(1+C11) -> 114.95914
A12: =A11+1 -> 2036 | B12: 1.571893 | C12: =B12/B11-1 -> 0.01657331 | E12: =E11*(1+C12) -> 116.86439
A13: =A12+1 -> 2037 | B13: 1.5979408 | C13: =B13/B12-1 -> 0.016570943 | E13: =E12*(1+C13) -> 118.80095
A14: =A13+1 -> 2038 | B14: 1.6245393 | C14: =B14/B13-1 -> 0.016645486 | E14: =E13*(1+C14) -> 120.77845
A15: =A14+1 -> 2039 | B15: 1.6516148 | C15: =B15/B14-1 -> 0.016666572 | E15: =E14*(1+C15) -> 122.79141
... A21: =A20+1 -> 2045 | B21: 1.8246995 | C21: =B21/B20-1 -> 0.016816031 | E21: =E20*(1+C21) -> 135.65962
A22: =A21+1 -> 2046 | B22: =B21*1.016745 -> 1.8552541 | C22: =B22/B21-1 -> 0.016745 | E22: =E21*(1+C22) -> 137.93124
A23: =A22+1 -> 2047 | B23: =B22*1.016745 -> 1.8863203 | C23: =B23/B22-1 -> 0.016745 | E23: =E22*(1+C23) -> 140.24089
A24: =A23+1 -> 2048 | B24: =B23*1.016745 -> 1.9179068 | C24: =B24/B23-1 -> 0.016745 | E24: =E23*(1+C24) -> 142.58923
A25: =A24+1 -> 2049 | B25: =B24*1.016745 -> 1.9500221 | C25: =B25/B24-1 -> 0.016745 | E25: =E24*(1+C25) -> 144.97689
A26: =A25+1 -> 2050 | B26: =B25*1.016745 -> 1.9826752 | C26: =B26/B25-1 -> 0.016745 | E26: =E25*(1+C26) -> 147.40452
A27: =A26+1 -> 2051 | B27: =B26*1.016745 -> 2.0158751 | C27: =B27/B26-1 -> 0.016745 | E27: =E26*(1+C27) -> 149.87281
A28: =A27+1 -> 2052 | B28: =B27*1.016745 -> 2.049631 | C28: =B28/B27-1 -> 0.016745 | E28: =E27*(1+C28) -> 152.38243
A29: =A28+1 -> 2053 | B29: =B28*1.016745 -> 2.083952 | C29: =B29/B28-1 -> 0.016745 | E29: =E28*(1+C29) -> 154.93408
A30: =A29+1 -> 2054 | B30: =B29*1.016745 -> 2.1188478 | C30: =B30/B29-1 -> 0.016745 | E30: =E29*(1+C30) -> 157.52845
A31: =A30+1 -> 2055 | B31: =B30*1.016745 -> 2.1543279 | C31: =B31/B30-1 -> 0.016745 | E31: =E30*(1+C31) -> 160.16626
A32: =A31+1 -> 2056 | B32: =B31*1.016745 -> 2.1904021 | C32: =B32/B31-1 -> 0.016745 | E32: =E31*(1+C32) -> 162.84824
A33: =A32+1 -> 2057 | B33: =B32*1.016745 -> 2.2270804 | C33: =B33/B32-1 -> 0.016745 | E33: =E32*(1+C33) -> 165.57514
... A84: =A83+1 -> 2108 | B84: =B83*1.016745 -> 5.1945773 | C84: =B84/B83-1 -> 0.016745 | E84: =E83*(1+C84) -> 386.19749
A86: Notes:
A88: 2027 - 2031 | B88: Escalation from Signal49's medium term forecast of the Implicit Price Deflator: G.D.P at Market Price for Canada. Dated February 6, 2026.
A89: 2031 - 2045 | B89: Escalation from Signal49's long term forecast of the Implicit Price Deflator: G.D.P at Market Price for Canada. Dated March 27, 2026.
A90: 2046 and Beyond | B90: Escalation based on average annual % escalation from 2041 - 2045 = (1.6745%)

Sheet Summary of Alternatives
A1: Summary of Alternatives
A4: Alternative 1: | B4: Life Cycle Cost of Plant
A6: Life (Years) | B6: PV Costs | C6: Levelized Annual Cost | D6: Annual Production | E6: Levelized Unit Cost
B7: ($ 000) | C7: ($ 000) | D7: (GWh) | E7: (¢/kWhr)
A9: 50 | B9: =-VLOOKUP(A9,'Life Cycle Cost Evaluation'!$A$14:$T$94,17,FALSE)/1000 -> 28718.512 | C9: =-PMT('Life Cycle Cost Evaluation'!$M$1,'Summary of Alternatives'!A9,'Summary of Alternatives'!B9,,0) -> 1968.5389 | D9: ='Generation Plant Input'!D9 -> 31.51 | E9: =C9/D9/10 -> 6.2473467
A11: Alternative 2a: Replacement Cost of Energy and Capacity (Run of River Scenario)
B13: Energy Costs | F13: Capacity Costs (Run of River Scenario) | J13: Totals
A14: Life (Years) | B14: PV Costs | C14: Levelized Annual Cost | D14: Annual Production | E14: Levelized Unit Cost | F14: PV Costs | G14: Levelized Annual Cost | H14: Annual Production | I14: Levelized Unit Cost | J14: PV Costs | K14: Levelized Annual Cost | L14: Annual Production | M14: Levelized Unit Cost
B15: ($ 000) | C15: ($ 000) | D15: (GWh) | E15: (¢/kWhr) | F15: ($ 000) | G15: ($ 000) | H15: (GWh) | I15: (¢/kWhr) | J15: ($ 000) | K15: ($ 000) | L15: (GWh) | M15: (¢/kWhr)
A17: 50 | B17: =VLOOKUP(A17,'Replacement Energy '!$A$8:$F$88,5,FALSE)/1000 -> 23813.884 | C17: =-PMT('Life Cycle Cost Evaluation'!$M$1,'Summary of Alternatives'!A17,'Summary of Alternatives'!B17,,0) -> 1632.3463 | D17: =D9 -> 31.51 | E17: =C17/D17/10 -> 5.1804072 | F17: =VLOOKUP(A17,'Replacement Capacity (R.O.R)'!$A$9:$F$88,5,FALSE)/1000 -> 34723.998 | G17: =-PMT('Life Cycle Cost Evaluation'!$M$1,'Summary of Alternatives'!A17,'Summary of Alternatives'!F17,,0) -> 2380.1909 | H17: =D17 -> 31.51 | I17: =G17/H17/10 -> 7.5537636 | J17: =F17+B17 -> 58537.881 | K17: =-PMT('Life Cycle Cost Evaluation'!$M$1,'Summary of Alternatives'!A17,'Summary of Alternatives'!J17,,0) -> 4012.5372 | L17: =H17 -> 31.51 | M17: =K17/L17/10 -> 12.734171
A19: Alternative 2b: Replacement Cost of Energy and Capacity (Fully Dispatchable Plant Scenario)
B21: Energy Costs | F21: Capacity Costs (Fully Dispatchable Plant Scenario) | J21: Totals
A22: Life (Years) | B22: PV Costs | C22: Levelized Annual Cost | D22: Annual Production | E22: Levelized Unit Cost | F22: PV Costs | G22: Levelized Annual Cost | H22: Annual Production | I22: Levelized Unit Cost | J22: PV Costs | K22: Levelized Annual Cost | L22: Annual Production | M22: Levelized Unit Cost
B23: ($ 000) | C23: ($ 000) | D23: (GWh) | E23: (¢/kWhr) | F23: ($ 000) | G23: ($ 000) | H23: (GWh) | I23: (¢/kWhr) | J23: ($ 000) | K23: ($ 000) | L23: (GWh) | M23: (¢/kWhr)
A25: 50 | B25: =VLOOKUP(A25,'Replacement Energy '!$A$8:$F$88,5,FALSE)/1000 -> 23813.884 | C25: =-PMT('Life Cycle Cost Evaluation'!$M$1,'Summary of Alternatives'!A25,'Summary of Alternatives'!B25,,0) -> 1632.3463 | D25: =D17 -> 31.51 | E25: =C25/D25/10 -> 5.1804072 | F25: =VLOOKUP(A25,'Replacement Capacity (Dispatch)'!$A$9:$G$89,6,FALSE)/1000 -> 43110.173 | G25: =-PMT('Life Cycle Cost Evaluation'!$M$1,'Summary of Alternatives'!A25,'Summary of Alternatives'!F25,,0) -> 2955.0296 | H25: =D25 -> 31.51 | I25: =G25/H25/10 -> 9.3780692 | J25: =F25+B25 -> 66924.057 | K25: =-PMT('Life Cycle Cost Evaluation'!$M$1,'Summary of Alternatives'!A25,'Summary of Alternatives'!J25,,0) -> 4587.3759 | L25: =H25 -> 31.51 | M25: =K25/L25/10 -> 14.558476

Sheet Life Cycle Cost Evaluation
B1: Weighted Average Incremental Cost of Capital: | M1: 0.0657
B2: Escalation Rate: | M2: See following worksheet
B3: First year for capital expenditures: | M3: 2027
B4: PW Year: | M4: ='Input Capital & Operating Costs'!E12 -> 2027
B5: Life Cycle Period: | M5: 50 | N5: Years
A7: Present Worth Analysis of the Cost of Future Plant Production
A9: Production | B9: Year | C9: Generation | D9: Generation | E9: Transmission | F9: Substation | G9: Distribution | H9: Buildings | J9: Capital Revenue Requirement | L9: Operating Costs | M9: Spillage Cost | N9: Operating Benefits | O9: Net benefit | P9: Present Worth Benefit | Q9: Cumulative Present Value Benefit | R9: Present Worth of Sunk Costs | S9: Total Present Worth Benefit | T9: Revenue Rqmt (¢/kWhr)
A10: Year | C10: Hydro | D10: Hydro
C11: 65.7yrs | D11: 65.7yrs | E11: 51.9 yrs | F11: 48.5 yrs | G11: 52.9 yrs | H11: 78 yrs
C12: 8% CCA | D12: 100% CCA | E12: 8% CCA | F12: 8% CCA | G12: 8% CCA | H12: 4% CCA
A14: =B14-$M$4+1 -> 1 | B14: =M3 -> 2027 | C14: ='Input Capital & Operating Costs'!C30 -> 612000 | D14: ='Input Capital & Operating Costs'!D30 -> 0 | E14: ='Input Capital & Operating Costs'!E30 -> 0 | F14: ='Input Capital & Operating Costs'!F30 -> 73000 | G14: ='Input Capital & Operating Costs'!G30 -> 0 | H14: ='Input Capital & Operating Costs'!H30 -> 0 | J14: ='Gen H 8%CCA'!CG20+'Gen H 100% CCA'!CG20+Transmission!CG20+Substation!CG20+Distribution!CG20+'Buildings 4%CCA'!CG20 -> 62408.568 | L14: =IF(B14<$M$4,0, ('Input Capital & Operating Costs'!I30*'Escalation Sheet'!E3/'Escalation Sheet'!$E$3)) -> 300666.4 | M14: =IFERROR(VLOOKUP(B14,'Generation Plant Input'!$C$77:$H$86,6,0),0) -> 0 | N14: 0 | O14: =N14-J14-L14-M14 -> -363074.97 | P14: =O14/(1+$M$1)^(A14) -> -340691.53 | Q14: =P14 -> -340691.53 | R14: ='Gen H 8%CCA'!CG105+'Gen H 100% CCA'!CG105+Transmission!CG105+Substation!CG105+Distribution!CG105+'Buildings 4%CCA'!CG105 -> -720231.68 | S14: =R14+Q14 -> -1060923.2 | T14: =-O14*100/('Generation Plant Input'!$D$11*1000000) -> 1.1522531
A15: =B15-$M$4+1 -> 2 | B15: =B14+1 -> 2028 | C15: ='Input Capital & Operating Costs'!C31 -> 622000 | D15: ='Input Capital & Operating Costs'!D31 -> 0 | E15: ='Input Capital & Operating Costs'!E31 -> 0 | F15: ='Input Capital & Operating Costs'!F31 -> 86000 | G15: ='Input Capital & Operating Costs'!G31 -> 0 | H15: ='Input Capital & Operating Costs'!H31 -> 0 | J15: ='Gen H 8%CCA'!CG21+'Gen H 100% CCA'!CG21+Transmission!CG21+Substation!CG21+Distribution!CG21+'Buildings 4%CCA'!CG21 -> 131966.67 | L15: =IF(B15<$M$4,0, ('Input Capital & Operating Costs'!I31*'Escalation Sheet'!E4/'Escalation Sheet'!$E$3)) -> 306504.78 | M15: =IFERROR(VLOOKUP(B15,'Generation Plant Input'!$C$77:$H$86,6,0),0) -> 0 | N15: 0 | O15: =N15-J15-L15-M15 -> -438471.45 | P15: =O15/(1+$M$1)^(A15) -> -386074.74 | Q15: =Q14+P15 -> -726766.27 | R15: ='Gen H 8%CCA'!CG106+'Gen H 100% CCA'!CG106+Transmission!CG106+Substation!CG106+Distribution!CG106+'Buildings 4%CCA'!CG106 -> -1355562.3 | S15: =R15+Q15 -> -2082328.6 | T15: =-O15*100/('Generation Plant Input'!$D$11*1000000) -> 1.3915311
A16: =B16-$M$4+1 -> 3 | B16: =B15+1 -> 2029 | C16: ='Input Capital & Operating Costs'!C32 -> 1588000 | D16: ='Input Capital & Operating Costs'!D32 -> 0 | E16: ='Input Capital & Operating Costs'!E32 -> 0 | F16: ='Input Capital & Operating Costs'!F32 -> 2175000 | G16: ='Input Capital & Operating Costs'!G32 -> 0 | H16: ='Input Capital & Operating Costs'!H32 -> 0 | J16: ='Gen H 8%CCA'!CG22+'Gen H 100% CCA'!CG22+Transmission!CG22+Substation!CG22+Distribution!CG22+'Buildings 4%CCA'!CG22 -> 482394.53 | L16: =IF(B16<$M$4,0, ('Input Capital & Operating Costs'!I32*'Escalation Sheet'!E5/'Escalation Sheet'!$E$3)) -> 312758.88 | M16: =IFERROR(VLOOKUP(B16,'Generation Plant Input'!$C$77:$H$86,6,0),0) -> 205440 | N16: 0 | O16: =N16-J16-L16-M16 -> -1000593.4 | P16: =O16/(1+$M$1)^(A16) -> -826709.14 | Q16: =Q15+P16 -> -1553475.4 | R16: ='Gen H 8%CCA'!CG107+'Gen H 100% CCA'!CG107+Transmission!CG107+Substation!CG107+Distribution!CG107+'Buildings 4%CCA'!CG107 -> -4734174.7 | S16: =R16+Q16 -> -6287650.1 | T16: =-O16*100/('Generation Plant Input'!$D$11*1000000) -> 3.1754789
A17: =B17-$M$4+1 -> 4 | B17: =B16+1 -> 2030 | C17: ='Input Capital & Operating Costs'!C33 -> 0 | D17: ='Input Capital & Operating Costs'!D33 -> 0 | E17: ='Input Capital & Operating Costs'!E33 -> 0 | F17: ='Input Capital & Operating Costs'!F33 -> 0 | G17: ='Input Capital & Operating Costs'!G33 -> 0 | H17: ='Input Capital & Operating Costs'!H33 -> 0 | J17: ='Gen H 8%CCA'!CG23+'Gen H 100% CCA'!CG23+Transmission!CG23+Substation!CG23+Distribution!CG23+'Buildings 4%CCA'!CG23 -> 510160.23 | L17: =IF(B17<$M$4,0, ('Input Capital & Operating Costs'!I33*'Escalation Sheet'!E6/'Escalation Sheet'!$E$3)) -> 318360.48 | M17: =IFERROR(VLOOKUP(B17,'Generation Plant Input'!$C$77:$H$86,6,0),0) -> 0 | N17: 0 | O17: =N17-J17-L17-M17 -> -828520.7 | P17: =O17/(1+$M$1)^(A17) -> -642337.83 | Q17: =Q16+P17 -> -2195813.2 | R17: ='Gen H 8%CCA'!CG108+'Gen H 100% CCA'!CG108+Transmission!CG108+Substation!CG108+Distribution!CG108+'Buildings 4%CCA'!CG108 -> -4312670.7 | S17: =R17+Q17 -> -6508483.9 | T17: =-O17*100/('Generation Plant Input'!$D$11*1000000) -> 2.6293897
A18: =B18-$M$4+1 -> 5 | B18: =B17+1 -> 2031 | C18: ='Input Capital & Operating Costs'!C34 -> 3286000 | D18: ='Input Capital & Operating Costs'!D34 -> 0 | E18: ='Input Capital & Operating Costs'!E34 -> 0 | F18: ='Input Capital & Operating Costs'!F34 -> 0 | G18: ='Input Capital & Operating Costs'!G34 -> 0 | H18: ='Input Capital & Operating Costs'!H34 -> 0 | J18: ='Gen H 8%CCA'!CG24+'Gen H 100% CCA'!CG24+Transmission!CG24+Substation!CG24+Distribution!CG24+'Buildings 4%CCA'!CG24 -> 795066.16 | L18: =IF(B18<$M$4,0, ('Input Capital & Operating Costs'!I34*'Escalation Sheet'!E7/'Escalation Sheet'!$E$3)) -> 323656.72 | M18: =IFERROR(VLOOKUP(B18,'Generation Plant Input'!$C$77:$H$86,6,0),0) -> 0 | N18: 0 | O18: =N18-J18-L18-M18 -> -1118722.9 | P18: =O18/(1+$M$1)^(A18) -> -813856.23 | Q18: =Q17+P18 -> -3009669.5 | R18: ='Gen H 8%CCA'!CG109+'Gen H 100% CCA'!CG109+Transmission!CG109+Substation!CG109+Distribution!CG109+'Buildings 4%CCA'!CG109 -> -6621727.1 | S18: =R18+Q18 -> -9631396.6 | T18: =-O18*100/('Generation Plant Input'!$D$11*1000000) -> 3.5503741
A19: =B19-$M$4+1 -> 6 | B19: =B18+1 -> 2032 | C19: ='Input Capital & Operating Costs'!C35*'Escalation Sheet'!$E8/'Escalation Sheet'!$E$3 -> 9529406.2 | D19: ='Input Capital & Operating Costs'!D35*'Escalation Sheet'!$E8/'Escalation Sheet'!$E$3 -> 0 | E19: ='Input Capital & Operating Costs'!E35*'Escalation Sheet'!$E8/'Escalation Sheet'!$E$3 -> 0 | F19: ='Input Capital & Operating Costs'!F35*'Escalation Sheet'!$E8/'Escalation Sheet'!$E$3 -> 0 | G19: ='Input Capital & Operating Costs'!G35*'Escalation Sheet'!$E8/'Escalation Sheet'!$E$3 -> 0 | H19: ='Input Capital & Operating Costs'!H35*'Escalation Sheet'!$E8/'Escalation Sheet'!$E$3 -> 0 | J19: ='Gen H 8%CCA'!CG25+'Gen H 100% CCA'!CG25+Transmission!CG25+Substation!CG25+Distribution!CG25+'Buildings 4%CCA'!CG25 -> 1675738.4 | L19: =IF(B19<$M$4,0, ('Input Capital & Operating Costs'!I35*'Escalation Sheet'!E8/'Escalation Sheet'!$E$3)) -> 328801.04 | M19: =IFERROR(VLOOKUP(B19,'Generation Plant Input'!$C$77:$H$86,6,0),0) -> 0 | N19: 0 | O19: =N19-J19-L19-M19 -> -2004539.4 | P19: =O19/(1+$M$1)^(A19) -> -1368374 | Q19: =Q18+P19 -> -4378043.4 | R19: ='Gen H 8%CCA'!CG110+'Gen H 100% CCA'!CG110+Transmission!CG110+Substation!CG110+Distribution!CG110+'Buildings 4%CCA'!CG110 -> -13363457 | S19: =R19+Q19 -> -17741500 | T19: =-O19*100/('Generation Plant Input'!$D$11*1000000) -> 6.3615976
A20: =B20-$M$4+1 -> 7 | B20: =B19+1 -> 2033 | C20: ='Input Capital & Operating Costs'!C36*'Escalation Sheet'!$E9/'Escalation Sheet'!$E$3 -> 3891984.6 | D20: ='Input Capital & Operating Costs'!D36*'Escalation Sheet'!$E9/'Escalation Sheet'!$E$3 -> 0 | E20: ='Input Capital & Operating Costs'!E36*'Escalation Sheet'!$E9/'Escalation Sheet'!$E$3 -> 0 | F20: ='Input Capital & Operating Costs'!F36*'Escalation Sheet'!$E9/'Escalation Sheet'!$E$3 -> 0 | G20: ='Input Capital & Operating Costs'!G36*'Escalation Sheet'!$E9/'Escalation Sheet'!$E$3 -> 0 | H20: ='Input Capital & Operating Costs'!H36*'Escalation Sheet'!$E9/'Escalation Sheet'!$E$3 -> 0 | J20: ='Gen H 8%CCA'!CG26+'Gen H 100% CCA'!CG26+Transmission!CG26+Substation!CG26+Distribution!CG26+'Buildings 4%CCA'!CG26 -> 2079556 | L20: =IF(B20<$M$4,0, ('Input Capital & Operating Costs'!I36*'Escalation Sheet'!E9/'Escalation Sheet'!$E$3)) -> 334339.71 | M20: =IFERROR(VLOOKUP(B20,'Generation Plant Input'!$C$77:$H$86,6,0),0) -> 0 | N20: 0 | O20: =N20-J20-L20-M20 -> -2413895.7 | P20: =O20/(1+$M$1)^(A20) -> -1546228.8 | Q20: =Q19+P20 -> -5924272.2 | R20: ='Gen H 8%CCA'!CG111+'Gen H 100% CCA'!CG111+Transmission!CG111+Substation!CG111+Distribution!CG111+'Buildings 4%CCA'!CG111 -> -14994770 | S20: =R20+Q20 -> -20919042 | T20: =-O20*100/('Generation Plant Input'!$D$11*1000000) -> 7.6607291
A21: =B21-$M$4+1 -> 8 | B21: =B20+1 -> 2034 | C21: ='Input Capital & Operating Costs'!C37*'Escalation Sheet'!$E10/'Escalation Sheet'!$E$3 -> 0 | D21: ='Input Capital & Operating Costs'!D37*'Escalation Sheet'!$E10/'Escalation Sheet'!$E$3 -> 0 | E21: ='Input Capital & Operating Costs'!E37*'Escalation Sheet'!$E10/'Escalation Sheet'!$E$3 -> 0 | F21: ='Input Capital & Operating Costs'!F37*'Escalation Sheet'!$E10/'Escalation Sheet'!$E$3 -> 0 | G21: ='Input Capital & Operating Costs'!G37*'Escalation Sheet'!$E10/'Escalation Sheet'!$E$3 -> 0 | H21: ='Input Capital & Operating Costs'!H37*'Escalation Sheet'!$E10/'Escalation Sheet'!$E$3 -> 0 | J21: ='Gen H 8%CCA'!CG27+'Gen H 100% CCA'!CG27+Transmission!CG27+Substation!CG27+Distribution!CG27+'Buildings 4%CCA'!CG27 -> 2058258 | L21: =IF(B21<$M$4,0, ('Input Capital & Operating Costs'!I37*'Escalation Sheet'!E10/'Escalation Sheet'!$E$3)) -> 339962.66 | M21: =IFERROR(VLOOKUP(B21,'Generation Plant Input'!$C$77:$H$86,6,0),0) -> 0 | N21: 0 | O21: =N21-J21-L21-M21 -> -2398220.7 | P21: =O21/(1+$M$1)^(A21) -> -1441482.6 | Q21: =Q20+P21 -> -7365754.8 | R21: ='Gen H 8%CCA'!CG112+'Gen H 100% CCA'!CG112+Transmission!CG112+Substation!CG112+Distribution!CG112+'Buildings 4%CCA'!CG112 -> -13676346 | S21: =R21+Q21 -> -21042101 | T21: =-O21*100/('Generation Plant Input'!$D$11*1000000) -> 7.6109827
A22: =B22-$M$4+1 -> 9 | B22: =B21+1 -> 2035 | C22: ='Input Capital & Operating Costs'!C38*'Escalation Sheet'!$E11/'Escalation Sheet'!$E$3 -> 1724387.1 | D22: ='Input Capital & Operating Costs'!D38*'Escalation Sheet'!$E11/'Escalation Sheet'!$E$3 -> 0 | E22: ='Input Capital & Operating Costs'!E38*'Escalation Sheet'!$E11/'Escalation Sheet'!$E$3 -> 0 | F22: ='Input Capital & Operating Costs'!F38*'Escalation Sheet'!$E11/'Escalation Sheet'!$E$3 -> 0 | G22: ='Input Capital & Operating Costs'!G38*'Escalation Sheet'!$E11/'Escalation Sheet'!$E$3 -> 0 | H22: ='Input Capital & Operating Costs'!H38*'Escalation Sheet'!$E11/'Escalation Sheet'!$E$3 -> 0 | J22: ='Gen H 8%CCA'!CG28+'Gen H 100% CCA'!CG28+Transmission!CG28+Substation!CG28+Distribution!CG28+'Buildings 4%CCA'!CG28 -> 2155963.3 | L22: =IF(B22<$M$4,0, ('Input Capital & Operating Costs'!I38*'Escalation Sheet'!E11/'Escalation Sheet'!$E$3)) -> 345643.51 | M22: =IFERROR(VLOOKUP(B22,'Generation Plant Input'!$C$77:$H$86,6,0),0) -> 0 | N22: 0 | O22: =N22-J22-L22-M22 -> -2501606.8 | P22: =O22/(1+$M$1)^(A22) -> -1410926.4 | Q22: =Q21+P22 -> -8776681.2 | R22: ='Gen H 8%CCA'!CG113+'Gen H 100% CCA'!CG113+Transmission!CG113+Substation!CG113+Distribution!CG113+'Buildings 4%CCA'!CG113 -> -13570678 | S22: =R22+Q22 -> -22347360 | T22: =-O22*100/('Generation Plant Input'!$D$11*1000000) -> 7.9390884
A23: =B23-$M$4+1 -> 10 | B23: =B22+1 -> 2036 | C23: ='Input Capital & Operating Costs'!C39*'Escalation Sheet'!$E12/'Escalation Sheet'!$E$3 -> 1168643.9 | D23: ='Input Capital & Operating Costs'!D39*'Escalation Sheet'!$E12/'Escalation Sheet'!$E$3 -> 0 | E23: ='Input Capital & Operating Costs'!E39*'Escalation Sheet'!$E12/'Escalation Sheet'!$E$3 -> 0 | F23: ='Input Capital & Operating Costs'!F39*'Escalation Sheet'!$E12/'Escalation Sheet'!$E$3 -> 0 | G23: ='Input Capital & Operating Costs'!G39*'Escalation Sheet'!$E12/'Escalation Sheet'!$E$3 -> 0 | H23: ='Input Capital & Operating Costs'!H39*'Escalation Sheet'!$E12/'Escalation Sheet'!$E$3 -> 0 | J23: ='Gen H 8%CCA'!CG29+'Gen H 100% CCA'!CG29+Transmission!CG29+Substation!CG29+Distribution!CG29+'Buildings 4%CCA'!CG29 -> 2218670.2 | L23: =IF(B23<$M$4,0, ('Input Capital & Operating Costs'!I39*'Escalation Sheet'!E12/'Escalation Sheet'!$E$3)) -> 351371.96 | M23: =IFERROR(VLOOKUP(B23,'Generation Plant Input'!$C$77:$H$86,6,0),0) -> 0 | N23: 0 | O23: =N23-J23-L23-M23 -> -2570042.2 | P23: =O23/(1+$M$1)^(A23) -> -1360161.9 | Q23: =Q22+P23 -> -10136843 | R23: ='Gen H 8%CCA'!CG114+'Gen H 100% CCA'!CG114+Transmission!CG114+Substation!CG114+Distribution!CG114+'Buildings 4%CCA'!CG114 -> -13076222 | S23: =R23+Q23 -> -23213065 | T23: =-O23*100/('Generation Plant Input'!$D$11*1000000) -> 8.1562748
A24: =B24-$M$4+1 -> 11 | B24: =B23+1 -> 2037 | C24: ='Input Capital & Operating Costs'!C40*'Escalation Sheet'!$E13/'Escalation Sheet'!$E$3 -> 0 | D24: ='Input Capital & Operating Costs'!D40*'Escalation Sheet'!$E13/'Escalation Sheet'!$E$3 -> 0 | E24: ='Input Capital & Operating Costs'!E40*'Escalation Sheet'!$E13/'Escalation Sheet'!$E$3 -> 0 | F24: ='Input Capital & Operating Costs'!F40*'Escalation Sheet'!$E13/'Escalation Sheet'!$E$3 -> 0 | G24: ='Input Capital & Operating Costs'!G40*'Escalation Sheet'!$E13/'Escalation Sheet'!$E$3 -> 0 | H24: ='Input Capital & Operating Costs'!H40*'Escalation Sheet'!$E13/'Escalation Sheet'!$E$3 -> 0 | J24: ='Gen H 8%CCA'!CG30+'Gen H 100% CCA'!CG30+Transmission!CG30+Substation!CG30+Distribution!CG30+'Buildings 4%CCA'!CG30 -> 2167874.4 | L24: =IF(B24<$M$4,0, ('Input Capital & Operating Costs'!I40*'Escalation Sheet'!E13/'Escalation Sheet'!$E$3)) -> 357194.53 | M24: =IFERROR(VLOOKUP(B24,'Generation Plant Input'!$C$77:$H$86,6,0),0) -> 0 | N24: 0 | O24: =N24-J24-L24-M24 -> -2525069 | P24: =O24/(1+$M$1)^(A24) -> -1253974.3 | Q24: =Q23+P24 -> -11390817 | R24: ='Gen H 8%CCA'!CG115+'Gen H 100% CCA'!CG115+Transmission!CG115+Substation!CG115+Distribution!CG115+'Buildings 4%CCA'!CG115 -> -11928902 | S24: =R24+Q24 -> -23319720 | T24: =-O24*100/('Generation Plant Input'!$D$11*1000000) -> 8.013548
A25: =B25-$M$4+1 -> 12 | B25: =B24+1 -> 2038 | C25: ='Input Capital & Operating Costs'!C41*'Escalation Sheet'!$E14/'Escalation Sheet'!$E$3 -> 0 | D25: ='Input Capital & Operating Costs'!D41*'Escalation Sheet'!$E14/'Escalation Sheet'!$E$3 -> 0 | E25: ='Input Capital & Operating Costs'!E41*'Escalation Sheet'!$E14/'Escalation Sheet'!$E$3 -> 0 | F25: ='Input Capital & Operating Costs'!F41*'Escalation Sheet'!$E14/'Escalation Sheet'!$E$3 -> 0 | G25: ='Input Capital & Operating Costs'!G41*'Escalation Sheet'!$E14/'Escalation Sheet'!$E$3 -> 0 | H25: ='Input Capital & Operating Costs'!H41*'Escalation Sheet'!$E14/'Escalation Sheet'!$E$3 -> 0 | J25: ='Gen H 8%CCA'!CG31+'Gen H 100% CCA'!CG31+Transmission!CG31+Substation!CG31+Distribution!CG31+'Buildings 4%CCA'!CG31 -> 2107382.6 | L25: =IF(B25<$M$4,0, ('Input Capital & Operating Costs'!I41*'Escalation Sheet'!E14/'Escalation Sheet'!$E$3)) -> 363140.2 | M25: =IFERROR(VLOOKUP(B25,'Generation Plant Input'!$C$77:$H$86,6,0),0) -> 0 | N25: 0 | O25: =N25-J25-L25-M25 -> -2470522.8 | P25: =O25/(1+$M$1)^(A25) -> -1151249 | Q25: =Q24+P25 -> -12542066 | R25: ='Gen H 8%CCA'!CG116+'Gen H 100% CCA'!CG116+Transmission!CG116+Substation!CG116+Distribution!CG116+'Buildings 4%CCA'!CG116 -> -10882355 | S25: =R25+Q25 -> -23424422 | T25: =-O25*100/('Generation Plant Input'!$D$11*1000000) -> 7.8404406
A26: =B26-$M$4+1 -> 13 | B26: =B25+1 -> 2039 | C26: ='Input Capital & Operating Costs'!C42*'Escalation Sheet'!$E15/'Escalation Sheet'!$E$3 -> 0 | D26: ='Input Capital & Operating Costs'!D42*'Escalation Sheet'!$E15/'Escalation Sheet'!$E$3 -> 0 | E26: ='Input Capital & Operating Costs'!E42*'Escalation Sheet'!$E15/'Escalation Sheet'!$E$3 -> 0 | F26: ='Input Capital & Operating Costs'!F42*'Escalation Sheet'!$E15/'Escalation Sheet'!$E$3 -> 0 | G26: ='Input Capital & Operating Costs'!G42*'Escalation Sheet'!$E15/'Escalation Sheet'!$E$3 -> 0 | H26: ='Input Capital & Operating Costs'!H42*'Escalation Sheet'!$E15/'Escalation Sheet'!$E$3 -> 0 | J26: ='Gen H 8%CCA'!CG32+'Gen H 100% CCA'!CG32+Transmission!CG32+Substation!CG32+Distribution!CG32+'Buildings 4%CCA'!CG32 -> 2049431 | L26: =IF(B26<$M$4,0, ('Input Capital & Operating Costs'!I42*'Escalation Sheet'!E15/'Escalation Sheet'!$E$3)) -> 369192.51 | M26: =IFERROR(VLOOKUP(B26,'Generation Plant Input'!$C$77:$H$86,6,0),0) -> 0 | N26: 0 | O26: =N26-J26-L26-M26 -> -2418623.5 | P26: =O26/(1+$M$1)^(A26) -> -1057581.2 | Q26: =Q25+P26 -> -13599648 | R26: ='Gen H 8%CCA'!CG117+'Gen H 100% CCA'!CG117+Transmission!CG117+Substation!CG117+Distribution!CG117+'Buildings 4%CCA'!CG117 -> -9927332.5 | S26: =R26+Q26 -> -23526980 | T26: =-O26*100/('Generation Plant Input'!$D$11*1000000) -> 7.6757332
A27: =B27-$M$4+1 -> 14 | B27: =B26+1 -> 2040 | C27: ='Input Capital & Operating Costs'!C43*'Escalation Sheet'!$E16/'Escalation Sheet'!$E$3 -> 0 | D27: ='Input Capital & Operating Costs'!D43*'Escalation Sheet'!$E16/'Escalation Sheet'!$E$3 -> 0 | E27: ='Input Capital & Operating Costs'!E43*'Escalation Sheet'!$E16/'Escalation Sheet'!$E$3 -> 0 | F27: ='Input Capital & Operating Costs'!F43*'Escalation Sheet'!$E16/'Escalation Sheet'!$E$3 -> 0 | G27: ='Input Capital & Operating Costs'!G43*'Escalation Sheet'!$E16/'Escalation Sheet'!$E$3 -> 0 | H27: ='Input Capital & Operating Costs'!H43*'Escalation Sheet'!$E16/'Escalation Sheet'!$E$3 -> 0 | J27: ='Gen H 8%CCA'!CG33+'Gen H 100% CCA'!CG33+Transmission!CG33+Substation!CG33+Distribution!CG33+'Buildings 4%CCA'!CG33 -> 1993816.4 | L27: =IF(B27<$M$4,0, ('Input Capital & Operating Costs'!I43*'Escalation Sheet'!E16/'Escalation Sheet'!$E$3)) -> 375383.68 | M27: =IFERROR(VLOOKUP(B27,'Generation Plant Input'!$C$77:$H$86,6,0),0) -> 0 | N27: 0 | O27: =N27-J27-L27-M27 -> -2369200.1 | P27: =O27/(1+$M$1)^(A27) -> -972102.85 | Q27: =Q26+P27 -> -14571750 | R27: ='Gen H 8%CCA'!CG118+'Gen H 100% CCA'!CG118+Transmission!CG118+Substation!CG118+Distribution!CG118+'Buildings 4%CCA'!CG118 -> -9055504.9 | S27: =R27+Q27 -> -23627255 | T27: =-O27*100/('Generation Plant Input'!$D$11*1000000) -> 7.5188831
A28: =B28-$M$4+1 -> 15 | B28: =B27+1 -> 2041 | C28: ='Input Capital & Operating Costs'!C44*'Escalation Sheet'!$E17/'Escalation Sheet'!$E$3 -> 0 | D28: ='Input Capital & Operating Costs'!D44*'Escalation Sheet'!$E17/'Escalation Sheet'!$E$3 -> 0 | E28: ='Input Capital & Operating Costs'!E44*'Escalation Sheet'!$E17/'Escalation Sheet'!$E$3 -> 0 | F28: ='Input Capital & Operating Costs'!F44*'Escalation Sheet'!$E17/'Escalation Sheet'!$E$3 -> 0 | G28: ='Input Capital & Operating Costs'!G44*'Escalation Sheet'!$E17/'Escalation Sheet'!$E$3 -> 0 | H28: ='Input Capital & Operating Costs'!H44*'Escalation Sheet'!$E17/'Escalation Sheet'!$E$3 -> 0 | J28: ='Gen H 8%CCA'!CG34+'Gen H 100% CCA'!CG34+Transmission!CG34+Substation!CG34+Distribution!CG34+'Buildings 4%CCA'!CG34 -> 1940351.8 | L28: =IF(B28<$M$4,0, ('Input Capital & Operating Costs'!I44*'Escalation Sheet'!E17/'Escalation Sheet'!$E$3)) -> 381658.51 | M28: =IFERROR(VLOOKUP(B28,'Generation Plant Input'!$C$77:$H$86,6,0),0) -> 0 | N28: 0 | O28: =N28-J28-L28-M28 -> -2322010.3 | P28: =O28/(1+$M$1)^(A28) -> -894004.4 | Q28: =Q27+P28 -> -15465755 | R28: ='Gen H 8%CCA'!CG119+'Gen H 100% CCA'!CG119+Transmission!CG119+Substation!CG119+Distribution!CG119+'Buildings 4%CCA'!CG119 -> -8259362.1 | S28: =R28+Q28 -> -23725117 | T28: =-O28*100/('Generation Plant Input'!$D$11*1000000) -> 7.3691219
A29: =B29-$M$4+1 -> 16 | B29: =B28+1 -> 2042 | C29: ='Input Capital & Operating Costs'!C45*'Escalation Sheet'!$E18/'Escalation Sheet'!$E$3 -> 0 | D29: ='Input Capital & Operating Costs'!D45*'Escalation Sheet'!$E18/'Escalation Sheet'!$E$3 -> 0 | E29: ='Input Capital & Operating Costs'!E45*'Escalation Sheet'!$E18/'Escalation Sheet'!$E$3 -> 0 | F29: ='Input Capital & Operating Costs'!F45*'Escalation Sheet'!$E18/'Escalation Sheet'!$E$3 -> 0 | G29: ='Input Capital & Operating Costs'!G45*'Escalation Sheet'!$E18/'Escalation Sheet'!$E$3 -> 0 | H29: ='Input Capital & Operating Costs'!H45*'Escalation Sheet'!$E18/'Escalation Sheet'!$E$3 -> 0 | J29: ='Gen H 8%CCA'!CG35+'Gen H 100% CCA'!CG35+Transmission!CG35+Substation!CG35+Distribution!CG35+'Buildings 4%CCA'!CG35 -> 1888865.2 | L29: =IF(B29<$M$4,0, ('Input Capital & Operating Costs'!I45*'Escalation Sheet'!E18/'Escalation Sheet'!$E$3)) -> 388024.77 | M29: =IFERROR(VLOOKUP(B29,'Generation Plant Input'!$C$77:$H$86,6,0),0) -> 0 | N29: 0 | O29: =N29-J29-L29-M29 -> -2276890 | P29: =O29/(1+$M$1)^(A29) -> -822588.43 | Q29: =Q28+P29 -> -16288343 | R29: ='Gen H 8%CCA'!CG120+'Gen H 100% CCA'!CG120+Transmission!CG120+Substation!CG120+Distribution!CG120+'Buildings 4%CCA'!CG120 -> -7532124.2 | S29: =R29+Q29 -> -23820467 | T29: =-O29*100/('Generation Plant Input'!$D$11*1000000) -> 7.2259283
A30: =B30-$M$4+1 -> 17 | B30: =B29+1 -> 2043 | C30: ='Input Capital & Operating Costs'!C46*'Escalation Sheet'!$E19/'Escalation Sheet'!$E$3 -> 0 | D30: ='Input Capital & Operating Costs'!D46*'Escalation Sheet'!$E19/'Escalation Sheet'!$E$3 -> 0 | E30: ='Input Capital & Operating Costs'!E46*'Escalation Sheet'!$E19/'Escalation Sheet'!$E$3 -> 0 | F30: ='Input Capital & Operating Costs'!F46*'Escalation Sheet'!$E19/'Escalation Sheet'!$E$3 -> 0 | G30: ='Input Capital & Operating Costs'!G46*'Escalation Sheet'!$E19/'Escalation Sheet'!$E$3 -> 0 | H30: ='Input Capital & Operating Costs'!H46*'Escalation Sheet'!$E19/'Escalation Sheet'!$E$3 -> 0 | J30: ='Gen H 8%CCA'!CG36+'Gen H 100% CCA'!CG36+Transmission!CG36+Substation!CG36+Distribution!CG36+'Buildings 4%CCA'!CG36 -> 1839198.5 | L30: =IF(B30<$M$4,0, ('Input Capital & Operating Costs'!I46*'Escalation Sheet'!E19/'Escalation Sheet'!$E$3)) -> 394515.48 | M30: =IFERROR(VLOOKUP(B30,'Generation Plant Input'!$C$77:$H$86,6,0),0) -> 0 | N30: 0 | O30: =N30-J30-L30-M30 -> -2233713.9 | P30: =O30/(1+$M$1)^(A30) -> -757239.28 | Q30: =Q29+P30 -> -17045583 | R30: ='Gen H 8%CCA'!CG121+'Gen H 100% CCA'!CG121+Transmission!CG121+Substation!CG121+Distribution!CG121+'Buildings 4%CCA'!CG121 -> -6867663.8 | S30: =R30+Q30 -> -23913246 | T30: =-O30*100/('Generation Plant Input'!$D$11*1000000) -> 7.0889049
... A94: =B94-$M$4+1 -> 81 | B94: =B93+1 -> 2107 | C94: ='Input Capital & Operating Costs'!C110*'Escalation Sheet'!$E83/'Escalation Sheet'!$E$3 -> 0 | D94: ='Input Capital & Operating Costs'!D110*'Escalation Sheet'!$E83/'Escalation Sheet'!$E$3 -> 0 | E94: ='Input Capital & Operating Costs'!E110*'Escalation Sheet'!$E83/'Escalation Sheet'!$E$3 -> 0 | F94: ='Input Capital & Operating Costs'!F110*'Escalation Sheet'!$E83/'Escalation Sheet'!$E$3 -> 0 | G94: ='Input Capital & Operating Costs'!G110*'Escalation Sheet'!$E83/'Escalation Sheet'!$E$3 -> 0 | H94: ='Input Capital & Operating Costs'!H110*'Escalation Sheet'!$E83/'Escalation Sheet'!$E$3 -> 0 | J94: ='Gen H 8%CCA'!CG100+'Gen H 100% CCA'!CG100+Transmission!CG100+Substation!CG100+Distribution!CG100+'Buildings 4%CCA'!CG100 -> 2124187.7 | L94: =IF(B94<$M$4,0, ('Input Capital & Operating Costs'!I110*'Escalation Sheet'!E83/'Escalation Sheet'!$E$3)) -> 1142042.6 | M94: =IFERROR(VLOOKUP(B94,'Generation Plant Input'!$C$77:$H$86,6,0),0) -> 0 | N94: 0 | O94: =N94-J94-L94-M94 -> -3266230.2 | P94: =O94/(1+$M$1)^(A94) -> -18863.165 | Q94: =Q93+P94 -> -30888599 | R94: ='Gen H 8%CCA'!CG185+'Gen H 100% CCA'!CG185+Transmission!CG185+Substation!CG185+Distribution!CG185+'Buildings 4%CCA'!CG185 -> -1086196.9 | S94: =R94+Q94 -> -31974796 | T94: =-O94*100/('Generation Plant Input'!$D$11*1000000) -> 10.365694
A96: Note: Assumes normal production

Sheet Replacement Energy 
B2: Cost of Replacement Energy (Reduced Exports)
A4: Production | B4: Year | C4: Marginal Energy Costs | D4: Total Present Worth | E4: Cumulative present Worth | F4: Value of Export Sales (¢/kWhr)
A5: Year
A8: =B8-'Input Capital & Operating Costs'!$E$12+1 -> 1 | B8: ='Life Cycle Cost Evaluation'!B14 -> 2027 | C8: =IF(B8<'Input Capital & Operating Costs'!$E$12,0,'Generation Plant Input'!$D$9*'Marginal Supply Costs'!O16*1000) -> 1716335.5 | D8: =C8/(1+'Life Cycle Cost Evaluation'!$M$1)^(A8) -> 1610524.1 | E8: =D8 -> 1610524.1 | F8: =C8/'Generation Plant Input'!$D$9/10000 -> 5.446955
A9: =B9-'Input Capital & Operating Costs'!$E$12+1 -> 2 | B9: ='Life Cycle Cost Evaluation'!B15 -> 2028 | C9: =IF(B9<'Input Capital & Operating Costs'!$E$12,0,'Generation Plant Input'!$D$9*'Marginal Supply Costs'!O17*1000) -> 1413456.7 | D9: =C9/(1+'Life Cycle Cost Evaluation'!$M$1)^(A9) -> 1244550.6 | E9: =D9+E8 -> 2855074.7 | F9: =C9/'Generation Plant Input'!$D$9/10000 -> 4.48574
A10: =B10-'Input Capital & Operating Costs'!$E$12+1 -> 3 | B10: ='Life Cycle Cost Evaluation'!B16 -> 2029 | C10: =IF(B10<'Input Capital & Operating Costs'!$E$12,0,'Generation Plant Input'!$D$9*'Marginal Supply Costs'!O18*1000) -> 1180635.6 | D10: =C10/(1+'Life Cycle Cost Evaluation'!$M$1)^(A10) -> 975463.38 | E10: =D10+E9 -> 3830538.1 | F10: =C10/'Generation Plant Input'!$D$9/10000 -> 3.74686
A11: =B11-'Input Capital & Operating Costs'!$E$12+1 -> 4 | B11: ='Life Cycle Cost Evaluation'!B17 -> 2030 | C11: =IF(B11<'Input Capital & Operating Costs'!$E$12,0,'Generation Plant Input'!$D$9*'Marginal Supply Costs'!O19*1000) -> 1164534 | D11: =C11/(1+'Life Cycle Cost Evaluation'!$M$1)^(A11) -> 902843.14 | E11: =D11+E10 -> 4733381.2 | F11: =C11/'Generation Plant Input'!$D$9/10000 -> 3.69576
A12: =B12-'Input Capital & Operating Costs'!$E$12+1 -> 5 | B12: ='Life Cycle Cost Evaluation'!B18 -> 2031 | C12: =IF(B12<'Input Capital & Operating Costs'!$E$12,0,'Generation Plant Input'!$D$9*'Marginal Supply Costs'!O20*1000) -> 1241260.8 | D12: =C12/(1+'Life Cycle Cost Evaluation'!$M$1)^(A12) -> 903000.98 | E12: =D12+E11 -> 5636382.2 | F12: =C12/'Generation Plant Input'!$D$9/10000 -> 3.93926
A13: =B13-'Input Capital & Operating Costs'!$E$12+1 -> 6 | B13: ='Life Cycle Cost Evaluation'!B19 -> 2032 | C13: =IF(B13<'Input Capital & Operating Costs'!$E$12,0,'Generation Plant Input'!$D$9*'Marginal Supply Costs'!O21*1000) -> 1301690.7 | D13: =C13/(1+'Life Cycle Cost Evaluation'!$M$1)^(A13) -> 888583.02 | E13: =D13+E12 -> 6524965.2 | F13: =C13/'Generation Plant Input'!$D$9/10000 -> 4.13104
A14: =B14-'Input Capital & Operating Costs'!$E$12+1 -> 7 | B14: ='Life Cycle Cost Evaluation'!B20 -> 2033 | C14: =IF(B14<'Input Capital & Operating Costs'!$E$12,0,'Generation Plant Input'!$D$9*'Marginal Supply Costs'!O22*1000) -> 1321264.7 | D14: =C14/(1+'Life Cycle Cost Evaluation'!$M$1)^(A14) -> 846340.41 | E14: =D14+E13 -> 7371305.6 | F14: =C14/'Generation Plant Input'!$D$9/10000 -> 4.19316
A15: =B15-'Input Capital & Operating Costs'!$E$12+1 -> 8 | B15: ='Life Cycle Cost Evaluation'!B21 -> 2034 | C15: =IF(B15<'Input Capital & Operating Costs'!$E$12,0,'Generation Plant Input'!$D$9*'Marginal Supply Costs'!O23*1000) -> 1324043.9 | D15: =C15/(1+'Life Cycle Cost Evaluation'!$M$1)^(A15) -> 795834.31 | E15: =D15+E14 -> 8167140 | F15: =C15/'Generation Plant Input'!$D$9/10000 -> 4.20198
A16: =B16-'Input Capital & Operating Costs'!$E$12+1 -> 9 | B16: ='Life Cycle Cost Evaluation'!B22 -> 2035 | C16: =IF(B16<'Input Capital & Operating Costs'!$E$12,0,'Generation Plant Input'!$D$9*'Marginal Supply Costs'!O24*1000) -> 1357639.9 | D16: =C16/(1+'Life Cycle Cost Evaluation'!$M$1)^(A16) -> 765719.82 | E16: =D16+E15 -> 8932859.8 | F16: =C16/'Generation Plant Input'!$D$9/10000 -> 4.3086
A17: =B17-'Input Capital & Operating Costs'!$E$12+1 -> 10 | B17: ='Life Cycle Cost Evaluation'!B23 -> 2036 | C17: =IF(B17<'Input Capital & Operating Costs'!$E$12,0,'Generation Plant Input'!$D$9*'Marginal Supply Costs'!O25*1000) -> 1349875.8 | D17: =C17/(1+'Life Cycle Cost Evaluation'!$M$1)^(A17) -> 714404.45 | E17: =D17+E16 -> 9647264.2 | F17: =C17/'Generation Plant Input'!$D$9/10000 -> 4.28396
A18: =B18-'Input Capital & Operating Costs'!$E$12+1 -> 11 | B18: ='Life Cycle Cost Evaluation'!B24 -> 2037 | C18: =IF(B18<'Input Capital & Operating Costs'!$E$12,0,'Generation Plant Input'!$D$9*'Marginal Supply Costs'!O26*1000) -> 1352598.3 | D18: =C18/(1+'Life Cycle Cost Evaluation'!$M$1)^(A18) -> 671713.69 | E18: =D18+E17 -> 10318978 | F18: =C18/'Generation Plant Input'!$D$9/10000 -> 4.2926
A19: =B19-'Input Capital & Operating Costs'!$E$12+1 -> 12 | B19: ='Life Cycle Cost Evaluation'!B25 -> 2038 | C19: =IF(B19<'Input Capital & Operating Costs'!$E$12,0,'Generation Plant Input'!$D$9*'Marginal Supply Costs'!O27*1000) -> 1412637.4 | D19: =C19/(1+'Life Cycle Cost Evaluation'!$M$1)^(A19) -> 658280.69 | E19: =D19+E18 -> 10977259 | F19: =C19/'Generation Plant Input'!$D$9/10000 -> 4.48314
A20: =B20-'Input Capital & Operating Costs'!$E$12+1 -> 13 | B20: ='Life Cycle Cost Evaluation'!B26 -> 2039 | C20: =IF(B20<'Input Capital & Operating Costs'!$E$12,0,'Generation Plant Input'!$D$9*'Marginal Supply Costs'!O28*1000) -> 1411030.4 | D20: =C20/(1+'Life Cycle Cost Evaluation'!$M$1)^(A20) -> 616995.24 | E20: =D20+E19 -> 11594254 | F20: =C20/'Generation Plant Input'!$D$9/10000 -> 4.47804
... A88: =B88-'Input Capital & Operating Costs'!$E$12+1 -> 81 | B88: ='Life Cycle Cost Evaluation'!B94 -> 2107 | C88: =IF(B88<'Input Capital & Operating Costs'!$E$12,0,'Generation Plant Input'!$D$9*'Marginal Supply Costs'!O96*1000) -> 5139395.3 | D88: =C88/(1+'Life Cycle Cost Evaluation'!$M$1)^(A88) -> 29681.086 | E88: =D88+E87 -> 25845971 | F88: =C88/'Generation Plant Input'!$D$9/10000 -> 16.310363

Sheet Replacement Capacity (R.O.R)
B2: Cost of Replacement Capacity (Run of River Assumption)
A4: Production | C4: Marginal Capacity Cost | D4: Total Present Worth | E4: Cumulative present Worth | F4: Value of Avoided Generation Capacity
A5: Year
B6: Year
C7: $ | D7: $ | E7: $ | F7: (¢/kWhr)
A9: =B9-'Input Capital & Operating Costs'!$E$12+1 -> 1 | B9: ='Replacement Energy '!B8 -> 2027 | C9: =IF(B9<'Input Capital & Operating Costs'!$E$12,0,'Generation Plant Input'!$D$9*'Marginal Supply Costs'!P16*1000) -> 962250.8 | D9: =C9/(1+'Life Cycle Cost Evaluation'!$M$1)^(A9) -> 902928.41 | E9: =D9 -> 902928.41 | F9: =C9/'Generation Plant Input'!$D$9/10000 -> 3.053795
A10: =B10-'Input Capital & Operating Costs'!$E$12+1 -> 2 | B10: ='Replacement Energy '!B9 -> 2028 | C10: =IF(B10<'Input Capital & Operating Costs'!$E$12,0,'Generation Plant Input'!$D$9*'Marginal Supply Costs'!P17*1000) -> 897537.14 | D10: =C10/(1+'Life Cycle Cost Evaluation'!$M$1)^(A10) -> 790282.74 | E10: =D10+E9 -> 1693211.2 | F10: =C10/'Generation Plant Input'!$D$9/10000 -> 2.84842
A11: =B11-'Input Capital & Operating Costs'!$E$12+1 -> 3 | B11: ='Replacement Energy '!B10 -> 2029 | C11: =IF(B11<'Input Capital & Operating Costs'!$E$12,0,'Generation Plant Input'!$D$9*'Marginal Supply Costs'!P18*1000) -> 1124881.8 | D11: =C11/(1+'Life Cycle Cost Evaluation'!$M$1)^(A11) -> 929398.55 | E11: =D11+E10 -> 2622609.7 | F11: =C11/'Generation Plant Input'!$D$9/10000 -> 3.56992
A12: =B12-'Input Capital & Operating Costs'!$E$12+1 -> 4 | B12: ='Replacement Energy '!B11 -> 2030 | C12: =IF(B12<'Input Capital & Operating Costs'!$E$12,0,'Generation Plant Input'!$D$9*'Marginal Supply Costs'!P19*1000) -> 1800846.9 | D12: =C12/(1+'Life Cycle Cost Evaluation'!$M$1)^(A12) -> 1396165.6 | E12: =D12+E11 -> 4018775.3 | F12: =C12/'Generation Plant Input'!$D$9/10000 -> 5.71516
A13: =B13-'Input Capital & Operating Costs'!$E$12+1 -> 5 | B13: ='Replacement Energy '!B12 -> 2031 | C13: =IF(B13<'Input Capital & Operating Costs'!$E$12,0,'Generation Plant Input'!$D$9*'Marginal Supply Costs'!P20*1000) -> 3347099.3 | D13: =C13/(1+'Life Cycle Cost Evaluation'!$M$1)^(A13) -> 2434970.9 | E13: =D13+E12 -> 6453746.2 | F13: =C13/'Generation Plant Input'!$D$9/10000 -> 10.62234
A14: =B14-'Input Capital & Operating Costs'!$E$12+1 -> 6 | B14: ='Replacement Energy '!B13 -> 2032 | C14: =IF(B14<'Input Capital & Operating Costs'!$E$12,0,'Generation Plant Input'!$D$9*'Marginal Supply Costs'!P21*1000) -> 2428929.4 | D14: =C14/(1+'Life Cycle Cost Evaluation'!$M$1)^(A14) -> 1658078.6 | E14: =D14+E13 -> 8111824.7 | F14: =C14/'Generation Plant Input'!$D$9/10000 -> 7.70844
A15: =B15-'Input Capital & Operating Costs'!$E$12+1 -> 7 | B15: ='Replacement Energy '!B14 -> 2033 | C15: =IF(B15<'Input Capital & Operating Costs'!$E$12,0,'Generation Plant Input'!$D$9*'Marginal Supply Costs'!P22*1000) -> 2670138.5 | D15: =C15/(1+'Life Cycle Cost Evaluation'!$M$1)^(A15) -> 1710365.9 | E15: =D15+E14 -> 9822190.6 | F15: =C15/'Generation Plant Input'!$D$9/10000 -> 8.47394
A16: =B16-'Input Capital & Operating Costs'!$E$12+1 -> 8 | B16: ='Replacement Energy '!B15 -> 2034 | C16: =IF(B16<'Input Capital & Operating Costs'!$E$12,0,'Generation Plant Input'!$D$9*'Marginal Supply Costs'!P23*1000) -> 2021637.5 | D16: =C16/(1+'Life Cycle Cost Evaluation'!$M$1)^(A16) -> 1215132.3 | E16: =D16+E15 -> 11037323 | F16: =C16/'Generation Plant Input'!$D$9/10000 -> 6.41586
A17: =B17-'Input Capital & Operating Costs'!$E$12+1 -> 9 | B17: ='Replacement Energy '!B16 -> 2035 | C17: =IF(B17<'Input Capital & Operating Costs'!$E$12,0,'Generation Plant Input'!$D$9*'Marginal Supply Costs'!P24*1000) -> 1450405.3 | D17: =C17/(1+'Life Cycle Cost Evaluation'!$M$1)^(A17) -> 818040.28 | E17: =D17+E16 -> 11855363 | F17: =C17/'Generation Plant Input'!$D$9/10000 -> 4.603
A18: =B18-'Input Capital & Operating Costs'!$E$12+1 -> 10 | B18: ='Replacement Energy '!B17 -> 2036 | C18: =IF(B18<'Input Capital & Operating Costs'!$E$12,0,'Generation Plant Input'!$D$9*'Marginal Supply Costs'!P25*1000) -> 2131922.5 | D18: =C18/(1+'Life Cycle Cost Evaluation'!$M$1)^(A18) -> 1128292.6 | E18: =D18+E17 -> 12983656 | F18: =C18/'Generation Plant Input'!$D$9/10000 -> 6.76586
A19: =B19-'Input Capital & Operating Costs'!$E$12+1 -> 11 | B19: ='Replacement Energy '!B18 -> 2037 | C19: =IF(B19<'Input Capital & Operating Costs'!$E$12,0,'Generation Plant Input'!$D$9*'Marginal Supply Costs'!P26*1000) -> 2194545.5 | D19: =C19/(1+'Life Cycle Cost Evaluation'!$M$1)^(A19) -> 1089833 | E19: =D19+E18 -> 14073489 | F19: =C19/'Generation Plant Input'!$D$9/10000 -> 6.9646
A20: =B20-'Input Capital & Operating Costs'!$E$12+1 -> 12 | B20: ='Replacement Energy '!B19 -> 2038 | C20: =IF(B20<'Input Capital & Operating Costs'!$E$12,0,'Generation Plant Input'!$D$9*'Marginal Supply Costs'!P27*1000) -> 2259141 | D20: =C20/(1+'Life Cycle Cost Evaluation'!$M$1)^(A20) -> 1052746.3 | E20: =D20+E19 -> 15126235 | F20: =C20/'Generation Plant Input'!$D$9/10000 -> 7.1696
